BEGIN:VCALENDAR
VERSION:2.0
PRODID:-//Fernando de Tú a Tú - ECPv6.15.20//NONSGML v1.0//EN
CALSCALE:GREGORIAN
METHOD:PUBLISH
X-ORIGINAL-URL:https://fernandodetuatu.es
X-WR-CALDESC:Eventos para Fernando de Tú a Tú
REFRESH-INTERVAL;VALUE=DURATION:PT1H
X-Robots-Tag:noindex
X-PUBLISHED-TTL:PT1H
BEGIN:VTIMEZONE
TZID:Europe/Madrid
BEGIN:DAYLIGHT
TZOFFSETFROM:+0100
TZOFFSETTO:+0200
TZNAME:CEST
DTSTART:20250330T010000
END:DAYLIGHT
BEGIN:STANDARD
TZOFFSETFROM:+0200
TZOFFSETTO:+0100
TZNAME:CET
DTSTART:20251026T010000
END:STANDARD
BEGIN:DAYLIGHT
TZOFFSETFROM:+0100
TZOFFSETTO:+0200
TZNAME:CEST
DTSTART:20260329T010000
END:DAYLIGHT
BEGIN:STANDARD
TZOFFSETFROM:+0200
TZOFFSETTO:+0100
TZNAME:CET
DTSTART:20261025T010000
END:STANDARD
BEGIN:DAYLIGHT
TZOFFSETFROM:+0100
TZOFFSETTO:+0200
TZNAME:CEST
DTSTART:20270328T010000
END:DAYLIGHT
BEGIN:STANDARD
TZOFFSETFROM:+0200
TZOFFSETTO:+0100
TZNAME:CET
DTSTART:20271031T010000
END:STANDARD
END:VTIMEZONE
BEGIN:VEVENT
DTSTART;TZID=Europe/Madrid:20260101T170000
DTEND;TZID=Europe/Madrid:20260101T190000
DTSTAMP:20260421T195525
CREATED:20251223T131704Z
LAST-MODIFIED:20251230T151816Z
UID:1635-1767286800-1767294000@fernandodetuatu.es
SUMMARY:Música en directo en Tanquer Social Club con Fernando de Tú a Tú – Concierto en Cañete la Real el (1-1-2026)
DESCRIPTION:El jueves 1 de enero de 2026 a las 16:00 h\, Fernando de Tú a Tú ofrece una actuación de música en directo en Tanquer Social Club\, en la localidad de Cañete la Real. Un concierto pensado para disfrutar de la tarde del primer día del año con buena música\, en un ambiente cercano y animado. \nLa actuación se basa en versiones conocidas del pop y rock en español\, interpretadas con un estilo adaptable al público y al entorno del local. Es una propuesta ideal tanto para vecinos de la zona como para quienes buscan un plan musical diferente para comenzar el año con música en vivo. \nEste concierto forma parte de la programación habitual de actuaciones en directo en la provincia de Málaga\, ofreciendo una experiencia musical accesible y de calidad con entrada gratuita. \nEsta actuación de música en directo en Cañete la Real se integra dentro de la agenda de conciertos de Fernando de Tú a Tú\, con propuestas pensadas para disfrutar de la música en vivo en distintos puntos de la provincia de Málaga. El concierto tendrá lugar en Tanquer Social Club el jueves 1 de enero de 2026 a las 16:00 h\, ofreciendo un plan cultural perfecto para la tarde del primer día del año. \nLa música en directo se ha convertido en una de las opciones más valoradas dentro de la oferta cultural local\, tanto en municipios del interior como en la Costa del Sol. En esta actuación\, el repertorio combina versiones conocidas del pop y rock en español\, interpretadas con un enfoque cercano que conecta fácilmente con el público. \nSi estás buscando conciertos en la provincia de Málaga para comenzar el año\, esta actuación es una excelente oportunidad para disfrutar de la música en directo en un entorno acogedor. Una propuesta ideal para quienes valoran la música en vivo como parte de la vida cultural de los pueblos malagueños. \nMás información sobre mis actuaciones en formato Acústico \n\nDescubre el formato Grupo de Versiones\nConoce el Tributo a Joaquín Sabina\nConsulta toda mi Agenda de conciertos\nContacto para contratación y eventos
URL:https://fernandodetuatu.es/concierto/musica-en-directo-tanquer-social-club-canete-la-real-2026-01-01/
LOCATION:Tanquer Social Club\, Paseo Padre Jesus\, Cañete La Real\, Málaga\, 29340\, Spain
CATEGORIES:Cañete la Real
ATTACH;FMTTYPE=image/jpeg:https://fernandodetuatu.es/wp-content/uploads/2025/12/musica-en-directo-tanquer-social-club-canete-la-real-2026-01-01.jpeg
ORGANIZER;CN="Fernando de T%C3%BA a T%C3%BA | Grupo de versiones M%C3%A1laga":MAILTO:info@fernandodetuatu.es
END:VEVENT
BEGIN:VEVENT
DTSTART;TZID=Europe/Madrid:20260104T173000
DTEND;TZID=Europe/Madrid:20260104T193000
DTSTAMP:20260421T195525
CREATED:20251126T164519Z
LAST-MODIFIED:20251126T164519Z
UID:1437-1767547800-1767555000@fernandodetuatu.es
SUMMARY:Música en directo en Torrox – Butterfly Beach Club | Fernando de Tú a Tú
DESCRIPTION:El domingo 4 de enero de 2026 a las 17:30 h\, Fernando de Tú a Tú vuelve a Butterfly Beach Club\, uno de los locales más emblemáticos de Torrox Costa\, para ofrecer un concierto acústico lleno de ambiente y cercanía. En este formato íntimo de voz y guitarra\, el artista interpreta versiones de pop y rock español con un estilo personal\, cálido y perfecto para una tarde frente al mar.Butterfly Beach Club destaca por su ubicación privilegiada junto al Mediterráneo\, su clientela habitual y su atmósfera relajada\, convirtiendo este acústico en un plan ideal para comenzar el año disfrutando de música en directo con buena energía. Una experiencia perfecta para familias\, parejas y grupos de amigos que quieran vivir una tarde especial en la Costa del Sol. \nLa música en directo en Málaga continúa siendo una de las propuestas culturales más atractivas de la Costa del Sol\, y Torrox es uno de los municipios que más apuesta por conciertos y actuaciones junto al mar. Este acústico de Fernando de Tú a Tú en Butterfly Beach Club el 4 de enero de 2026 es una oportunidad perfecta para comenzar el año disfrutando de versiones conocidas del pop y rock español interpretadas con un estilo íntimo\, cercano y cargado de emoción.Los conciertos en Torrox se han consolidado como una alternativa ideal para quienes buscan planes diferentes\, combinando música\, gastronomía y el atractivo del litoral. El formato acústico encaja especialmente bien en locales como Butterfly Beach Club\, donde la cercanía con el público y el entorno costero crean una experiencia única. Dentro de la amplia oferta de actuaciones en la Costa del Sol\, este evento destaca por su ubicación\, su ambiente agradable y la calidad interpretativa del artista. Si buscas planes especiales para comenzar el año con buena música\, esta cita es una excelente opción. \n\n\n👉 Acústico: https://fernandodetuatu.es/concierto-acustico-cantante-de-versiones-malaga/ \n\n\n👉 Grupo de Versiones: https://fernandodetuatu.es/contratar-grupo-de-versiones-en-malaga/ \n\n\n👉 Tributo Sabina: https://fernandodetuatu.es/tributo-sabina-malaga/ \n\n\n👉 Contacto: https://fernandodetuatu.es/contratar-musica-en-directo-en-malaga/ \n\n\n👉 Agenda: https://fernandodetuatu.es/agenda/
URL:https://fernandodetuatu.es/concierto/musica-en-directo-butterfly-beach-club-torrox-2026-01-04/
LOCATION:Butterfly Beach Club\, C/Barranco del Agua\, 2\, Torrox Costa\, Málaga\, 29793\, Spain
CATEGORIES:Torrox
ATTACH;FMTTYPE=image/jpeg:https://fernandodetuatu.es/wp-content/uploads/2025/11/butterfly-beach-club-torrox.jpeg
END:VEVENT
BEGIN:VEVENT
DTSTART;TZID=Europe/Madrid:20260110T170000
DTEND;TZID=Europe/Madrid:20260110T190000
DTSTAMP:20260421T195525
CREATED:20251223T132554Z
LAST-MODIFIED:20251230T135945Z
UID:1638-1768064400-1768071600@fernandodetuatu.es
SUMMARY:Música en directo en Uppery Roof | Málaga | Fernando de Tú a Tú | 10 de enero 2026
DESCRIPTION:El sábado 10 de enero de 2026 a las 17:00 h\, Fernando de Tú a Tú ofrece una actuación de música en directo en Uppery Roof Guadalmar\, un espacio destacado en la zona de Guadalmar\, Málaga. Un concierto pensado para disfrutar de la tarde en un entorno cuidado\, con buen ambiente y música en vivo. \nLa actuación incluye versiones conocidas del pop y rock en español\, interpretadas con un estilo adaptable al público y al entorno del local. Es una propuesta ideal tanto para quienes buscan un plan diferente en Málaga como para quienes quieren acompañar la tarde con música en directo en un rooftop con personalidad. \nEste concierto forma parte de la agenda habitual de actuaciones en directo en Málaga\, ofreciendo una experiencia musical accesible y de calidad con entrada gratuita. \nEsta actuación de música en directo en Málaga se integra dentro de la agenda de conciertos de Fernando de Tú a Tú\, con propuestas pensadas para disfrutar de la música en vivo en distintos espacios de la ciudad. El concierto tendrá lugar en Uppery Roof Guadalmar el sábado 10 de enero de 2026 a las 17:00 h\, en la zona de Guadalmar. \nLa música en directo es una de las opciones culturales más valoradas tanto por el público local como por quienes visitan Málaga durante todo el año. En esta actuación\, el repertorio se basa en versiones conocidas del pop y rock en español\, interpretadas con un enfoque cercano que encaja perfectamente en un entorno al aire libre y relajado. \nSi estás buscando conciertos en Málaga para disfrutar de la tarde\, esta actuación es una excelente opción dentro de la oferta de música en vivo de la ciudad. Una propuesta ideal para quienes valoran la música en directo como parte del ocio cultural en la Costa del Sol. \nMás información sobre mis actuaciones en formato Acústico \n\nDescubre el formato Grupo de Versiones\nConoce el Tributo a Joaquín Sabina\nConsulta toda mi Agenda de conciertos\nContacto para contratación y eventos
URL:https://fernandodetuatu.es/concierto/musica-en-directo-uppery-roof-malaga-2026-01-10/
LOCATION:Uppery Roof Top\, C/Ambar 7\, Churriana\, Málaga\, 29004\, Spain
CATEGORIES:Málaga
ATTACH;FMTTYPE=image/jpeg:https://fernandodetuatu.es/wp-content/uploads/2025/12/musica-en-directo-uppery-roof-malaga-2026-01-10.jpeg
ORGANIZER;CN="Fernando de T%C3%BA a T%C3%BA | Grupo de versiones M%C3%A1laga":MAILTO:info@fernandodetuatu.es
END:VEVENT
BEGIN:VEVENT
DTSTART;TZID=Europe/Madrid:20260110T220000
DTEND;TZID=Europe/Madrid:20260110T233000
DTSTAMP:20260421T195525
CREATED:20251223T133003Z
LAST-MODIFIED:20251223T171421Z
UID:1641-1768082400-1768087800@fernandodetuatu.es
SUMMARY:Música en directo en Irish Big Band –  La Cala del Moral el 10 de enero de 2026
DESCRIPTION:El sábado 10 de enero de 2026 a las 22:00 h\, Fernando de Tú a Tú ofrece una actuación de música en directo en Irish Big Band\, en La Cala del Moral. Un concierto pensado para disfrutar de la noche con buen ambiente y música en vivo\, en un local muy conocido de la zona. \nLa actuación se basa en versiones conocidas del pop y rock en español\, interpretadas con un estilo cercano y adaptable al público y al entorno del local. Es una propuesta ideal tanto para quienes buscan un plan nocturno en La Cala del Moral como para quienes disfrutan de la música en directo en bares y pubs con ambiente animado. \nEste concierto se integra dentro de la agenda habitual de actuaciones en directo en la provincia de Málaga\, ofreciendo una experiencia musical accesible y de calidad con entrada gratuita. \nEsta actuación de música en directo en La Cala del Moral forma parte de la agenda de conciertos de Fernando de Tú a Tú\, con propuestas pensadas para disfrutar de la música en vivo en distintos municipios de la provincia de Málaga. El concierto tendrá lugar en Irish Big Band el sábado 10 de enero de 2026 a las 22:00 h\, ofreciendo un plan perfecto para la noche del fin de semana. \nLa música en directo es una de las opciones más demandadas dentro de la oferta cultural y de ocio en la Costa del Sol\, especialmente en zonas como La Cala del Moral\, donde los conciertos en bares y pubs forman parte del ambiente habitual. En esta actuación\, el repertorio combina versiones conocidas del pop y rock en español\, interpretadas con un enfoque cercano que conecta fácilmente con el público. \nSi estás buscando conciertos en La Cala del Moral o actuaciones de música en directo en Málaga\, esta propuesta es una excelente oportunidad para disfrutar de la música en vivo en un entorno animado y con buen ambiente. Una opción ideal para quienes valoran la música como parte del ocio nocturno. \nMás información sobre mis actuaciones en formato Acústico \n\nDescubre el formato Grupo de Versiones\nConoce el Tributo a Joaquín Sabina\nConsulta toda mi Agenda de conciertos\nContacto para contratación y eventos
URL:https://fernandodetuatu.es/concierto/musica-en-directo-irish-big-band-la-cala-del-moral-2026-01-10/
LOCATION:Irish Bigband Pub\, Plaza Gloria Fuertes\, 1\, La Cala del Moral\, Málaga\, 29720\, Spain
CATEGORIES:Rincón de la Victoria
ATTACH;FMTTYPE=image/jpeg:https://fernandodetuatu.es/wp-content/uploads/2025/12/musica-en-directo-irish-big-band-la-cala-del-moral-2026-01-10.jpeg
ORGANIZER;CN="Fernando de T%C3%BA a T%C3%BA | Grupo de versiones M%C3%A1laga":MAILTO:info@fernandodetuatu.es
END:VEVENT
BEGIN:VEVENT
DTSTART;TZID=Europe/Madrid:20260117T150000
DTEND;TZID=Europe/Madrid:20260117T170000
DTSTAMP:20260421T195525
CREATED:20260101T133840Z
LAST-MODIFIED:20260101T133840Z
UID:1848-1768662000-1768669200@fernandodetuatu.es
SUMMARY:Música en directo en El Camarote – Caleta de Vélez · 17 de enero de 2026
DESCRIPTION:El sábado 17 de enero de 2026 a las 15:00 h\, Fernando de Tú a Tú ofrece una actuación de música en directo en El Camarote\, en Caleta de Vélez. Un concierto pensado para disfrutar del mediodía y la tarde con buen ambiente\, música en vivo y un entorno cercano junto al mar. \nLa actuación combina versiones conocidas del pop y rock en español\, interpretadas con un estilo cercano y adaptable al público y al entorno del local. Es una propuesta ideal tanto para quienes buscan un plan relajado en la Axarquía como para quienes disfrutan de la música en directo como parte del ocio de fin de semana. \nEste concierto forma parte de la agenda habitual de actuaciones en directo de Fernando de Tú a Tú en la provincia de Málaga y la Costa del Sol. La música en directo se ha consolidado como una de las opciones culturales y de ocio más valoradas en zonas como Caleta de Vélez\, donde los conciertos en bares y restaurantes frente al mar forman parte del ambiente habitual. Si estás buscando conciertos en Caleta de Vélez o planes de música en directo en Málaga\, esta actuación es una excelente oportunidad para disfrutar de la música en vivo con entrada gratuita y buen ambiente. \nMás información sobre mis actuaciones en formato Acústico \n\nDescubre el formato Grupo de Versiones\nConoce el Tributo a Joaquín Sabina\nConsulta toda mi Agenda de conciertos\nContacto para contratación y eventos
URL:https://fernandodetuatu.es/concierto/musica-en-directo-el-camarote-caleta-de-velez-2026-01-17/
LOCATION:El Camarote\, Puerto Deportivo\, Caleta de Vélez\, Málaga\, 29751\, Spain
CATEGORIES:Vélez Málaga
ATTACH;FMTTYPE=image/jpeg:https://fernandodetuatu.es/wp-content/uploads/2026/01/musica-en-directo-el-camarote-caleta-de-velez-2026-01-17.jpg
ORGANIZER;CN="Fernando de T%C3%BA a T%C3%BA | Grupo de versiones M%C3%A1laga":MAILTO:info@fernandodetuatu.es
END:VEVENT
BEGIN:VEVENT
DTSTART;TZID=Europe/Madrid:20260118T170000
DTEND;TZID=Europe/Madrid:20260118T190000
DTSTAMP:20260421T195525
CREATED:20251223T133608Z
LAST-MODIFIED:20251223T172857Z
UID:1643-1768755600-1768762800@fernandodetuatu.es
SUMMARY:Música en directo en Chiringuito El Muro | Rincón de la Victoria | 18 de enero 2026
DESCRIPTION:Esta actuación de música en directo en Rincón de la Victoria se integra dentro de la agenda de conciertos de Fernando de Tú a Tú\, con propuestas pensadas para disfrutar de la música en vivo en distintos puntos de la costa malagueña. El concierto tendrá lugar en Chiringuito El Muro el domingo 18 de enero de 2026 a las 17:00 h\, ofreciendo un plan perfecto para la tarde. \nLa música en directo es una de las opciones culturales y de ocio más valoradas en zonas costeras como Rincón de la Victoria\, donde los conciertos en chiringuitos y locales frente al mar forman parte del ambiente habitual. En esta actuación\, el repertorio combina versiones conocidas del pop y rock en español\, interpretadas con un enfoque cercano que conecta fácilmente con el público. \nSi estás buscando conciertos en Rincón de la Victoria o actuaciones de música en directo en Málaga\, esta propuesta es una excelente oportunidad para disfrutar de la música en vivo junto al mar. Una opción ideal dentro de la oferta cultural de la Costa del Sol. \nMás información sobre mis actuaciones en formato Acústico \n\nDescubre el formato Grupo de Versiones\nConoce el Tributo a Joaquín Sabina\nConsulta toda mi Agenda de conciertos\nContacto para contratación y eventos
URL:https://fernandodetuatu.es/concierto/musica-en-directochiringuito-el-muro-rincon-de-la-victoria-2026-01-18/
LOCATION:Chiringuito El Muro\, Paseo Maritimo Virgen del Carmen\, Torre Benagalbón\, MÁLAGA\, 29730\, Spain
CATEGORIES:Rincón de la Victoria
ATTACH;FMTTYPE=image/jpeg:https://fernandodetuatu.es/wp-content/uploads/2025/12/musica-en-directochiringuito-el-muro-rincon-de-la-victoria-2026-01-18.jpeg
ORGANIZER;CN="Fernando de T%C3%BA a T%C3%BA | Grupo de versiones M%C3%A1laga":MAILTO:info@fernandodetuatu.es
END:VEVENT
BEGIN:VEVENT
DTSTART;TZID=Europe/Madrid:20260123T200000
DTEND;TZID=Europe/Madrid:20260123T220000
DTSTAMP:20260421T195525
CREATED:20260109T120117Z
LAST-MODIFIED:20260109T120117Z
UID:1866-1769198400-1769205600@fernandodetuatu.es
SUMMARY:Concierto tras el Pregón de Fiestas – Música en directo en Benagalbón · 23 de enero de 2026
DESCRIPTION:El viernes 23 de enero de 2026 a las 20:00 h\, Fernando de Tú a Tú ofrece un concierto tras el Pregón de Fiestas en Benagalbón\, dentro de la programación festiva de la localidad. Una actuación de música en directo pensada para acompañar uno de los momentos más destacados de las fiestas\, en un ambiente cercano y festivo. \nEl concierto combina versiones conocidas del pop y rock en español\, interpretadas con un estilo accesible y adaptable a todo tipo de público. Es una propuesta ideal para vecinos y visitantes que quieran disfrutar de la música en vivo tras el pregón\, como parte de las celebraciones tradicionales de Benagalbón. \nEste evento se integra dentro de la agenda de actuaciones en directo de Fernando de Tú a Tú en la provincia de Málaga y la Costa del Sol. Los conciertos en el marco de fiestas populares son una de las opciones culturales más valoradas\, ya que unen música\, tradición y ambiente local. Si estás buscando conciertos en Benagalbón o planes de música en directo en la Axarquía\, esta actuación es una excelente oportunidad para disfrutar de la noche festiva con entrada gratuita y buen ambiente. \nMás información sobre mis actuaciones en formato Acústico \n\nDescubre el formato Grupo de Versiones\nConoce el Tributo a Joaquín Sabina\nConsulta toda mi Agenda de conciertos\nContacto para contratación y eventos
URL:https://fernandodetuatu.es/concierto/concierto-pregon-fiestas-benagalbon-2026-01-23/
LOCATION:Mayordomos Benagalbon\, Plaza de la Iglesia\, Benagalbón\, Málaga\, 29738\, Spain
CATEGORIES:Rincón de la Victoria
ATTACH;FMTTYPE=image/jpeg:https://fernandodetuatu.es/wp-content/uploads/2026/01/concierto-pregon-fiestas-benagalbon-2026-01-23.jpg
ORGANIZER;CN="Fernando de T%C3%BA a T%C3%BA | Grupo de versiones M%C3%A1laga":MAILTO:info@fernandodetuatu.es
END:VEVENT
BEGIN:VEVENT
DTSTART;TZID=Europe/Madrid:20260125T163000
DTEND;TZID=Europe/Madrid:20260125T183000
DTSTAMP:20260421T195525
CREATED:20260114T115137Z
LAST-MODIFIED:20260114T115137Z
UID:1898-1769358600-1769365800@fernandodetuatu.es
SUMMARY:Concierto en Mulse – Música en directo en Rincón de la Victoria · 25 de enero de 2026
DESCRIPTION:El domingo 25 de enero de 2026 a las 16:30 h\, Fernando de Tú a Tú ofrece un concierto en Mulse\, con música en directo en Rincón de la Victoria. Una actuación pensada para disfrutar de la tarde con buen ambiente y música en vivo\, en uno de los locales musicales más activos de la zona. \nEl repertorio combina versiones conocidas del pop y rock en español\, interpretadas con un estilo cercano y adaptable al público y al entorno del local. Es una propuesta ideal tanto para quienes buscan un plan diferente en Rincón de la Victoria como para quienes disfrutan de la música en directo como parte del ocio del fin de semana. \nEste concierto forma parte de la agenda habitual de actuaciones en directo de Fernando de Tú a Tú en la provincia de Málaga y la Costa del Sol. La música en directo se ha consolidado como una de las opciones de ocio más valoradas en municipios como Rincón de la Victoria\, donde los conciertos en bares musicales forman parte del ambiente local. Si estás buscando conciertos en Rincón de la Victoria o planes de música en directo en Málaga\, esta actuación es una excelente oportunidad para disfrutar de la música en vivo con entrada gratuita y buen ambiente. \nMás información sobre mis actuaciones en formato\n\nAcústico \nDescubre el formato\n\nGrupo de Versiones \nConoce el\n\nTributo a Joaquín Sabina \nConsulta toda mi\n\nAgenda de conciertos \n\nContacto para contratación y eventos
URL:https://fernandodetuatu.es/concierto/concierto-mulse-rincon-de-la-victoria-2026-01-25/
LOCATION:Mulse\, C/El Túnel 10\, RINCON DE LA VICTORIA\, MALAGA\, 29730\, Spain
CATEGORIES:Rincón de la Victoria
ATTACH;FMTTYPE=image/jpeg:https://fernandodetuatu.es/wp-content/uploads/2026/01/concierto-fernando-de-tu-a-tu-mulse-rincon-de-la-victoria-2026-1-25.jpg
ORGANIZER;CN="Fernando de T%C3%BA a T%C3%BA | Grupo de versiones M%C3%A1laga":MAILTO:info@fernandodetuatu.es
END:VEVENT
BEGIN:VEVENT
DTSTART;TZID=Europe/Madrid:20260130T220000
DTEND;TZID=Europe/Madrid:20260130T233000
DTSTAMP:20260421T195525
CREATED:20251223T134204Z
LAST-MODIFIED:20251223T164053Z
UID:1646-1769810400-1769815800@fernandodetuatu.es
SUMMARY:Música en directo en Mulse – Concierto en Rincón de la Victoria el 30 de enero
DESCRIPTION:El viernes 30 de enero de 2026 a las 23:00 h\, Fernando de Tú a Tú ofrece una actuación de música en directo en Mulse\, en Rincón de la Victoria. Un concierto pensado para disfrutar de la noche con buen ambiente y música en vivo\, en uno de los locales musicales más activos de la zona. \nLa actuación incluye versiones conocidas del pop y rock en español\, interpretadas con un estilo cercano y adaptable al público y al entorno del local. Es una propuesta ideal para quienes buscan un plan nocturno en Rincón de la Victoria y para quienes disfrutan de la música en directo en bares y salas con ambiente animado. \nEste concierto se integra dentro de la agenda habitual de actuaciones en directo en la provincia de Málaga\, ofreciendo una experiencia musical accesible y de calidad con entrada gratuita. \nEsta actuación de música en directo en Rincón de la Victoria forma parte de la agenda de conciertos de Fernando de Tú a Tú\, con propuestas pensadas para disfrutar de la música en vivo en distintos puntos de la costa malagueña. El concierto tendrá lugar en Mulse el viernes 30 de enero de 2026 a las 23:00 h\, ofreciendo un plan perfecto para la noche del fin de semana. \nLa música en directo es una de las opciones de ocio más demandadas en municipios como Rincón de la Victoria\, donde los conciertos en bares musicales forman parte habitual del ambiente nocturno. En esta actuación\, el repertorio combina versiones conocidas del pop y rock en español\, interpretadas con un enfoque cercano que conecta fácilmente con el público. \nSi estás buscando conciertos en Rincón de la Victoria o actuaciones de música en directo en Málaga\, esta propuesta es una excelente oportunidad para disfrutar de la música en vivo en un entorno animado. Una opción ideal dentro de la oferta cultural y de ocio de la Costa del Sol. \nMás información sobre mis actuaciones en formato Acústico \n\nDescubre el formato Grupo de Versiones\nConoce el Tributo a Joaquín Sabina\nConsulta toda mi Agenda de conciertos\nContacto para contratación y eventos
URL:https://fernandodetuatu.es/concierto/musica-en-directo-mulse-rincon-de-la-victoria-2026-30-01/
LOCATION:Mulse\, C/El Túnel 10\, RINCON DE LA VICTORIA\, MALAGA\, 29730\, Spain
CATEGORIES:Rincón de la Victoria
ATTACH;FMTTYPE=image/jpeg:https://fernandodetuatu.es/wp-content/uploads/2025/12/musica-en-directo-mulse-rincon-de-la-victoria-2026-30-01.jpeg
ORGANIZER;CN="Fernando de T%C3%BA a T%C3%BA | Grupo de versiones M%C3%A1laga":MAILTO:info@fernandodetuatu.es
END:VEVENT
END:VCALENDAR