BEGIN:VCALENDAR
VERSION:2.0
PRODID:-//Fernando de Tú a Tú - ECPv6.15.20//NONSGML v1.0//EN
CALSCALE:GREGORIAN
METHOD:PUBLISH
X-ORIGINAL-URL:https://fernandodetuatu.es
X-WR-CALDESC:Eventos para Fernando de Tú a Tú
REFRESH-INTERVAL;VALUE=DURATION:PT1H
X-Robots-Tag:noindex
X-PUBLISHED-TTL:PT1H
BEGIN:VTIMEZONE
TZID:Europe/Madrid
BEGIN:DAYLIGHT
TZOFFSETFROM:+0100
TZOFFSETTO:+0200
TZNAME:CEST
DTSTART:20250330T010000
END:DAYLIGHT
BEGIN:STANDARD
TZOFFSETFROM:+0200
TZOFFSETTO:+0100
TZNAME:CET
DTSTART:20251026T010000
END:STANDARD
BEGIN:DAYLIGHT
TZOFFSETFROM:+0100
TZOFFSETTO:+0200
TZNAME:CEST
DTSTART:20260329T010000
END:DAYLIGHT
BEGIN:STANDARD
TZOFFSETFROM:+0200
TZOFFSETTO:+0100
TZNAME:CET
DTSTART:20261025T010000
END:STANDARD
BEGIN:DAYLIGHT
TZOFFSETFROM:+0100
TZOFFSETTO:+0200
TZNAME:CEST
DTSTART:20270328T010000
END:DAYLIGHT
BEGIN:STANDARD
TZOFFSETFROM:+0200
TZOFFSETTO:+0100
TZNAME:CET
DTSTART:20271031T010000
END:STANDARD
END:VTIMEZONE
BEGIN:VEVENT
DTSTART;TZID=Europe/Madrid:20260425T150000
DTEND;TZID=Europe/Madrid:20260425T170000
DTSTAMP:20260422T003331
CREATED:20260421T115950Z
LAST-MODIFIED:20260421T115950Z
UID:2220-1777129200-1777136400@fernandodetuatu.es
SUMMARY:25 Abr | Grupo de Versiones en Caleta de Vélez - El Camarote | Fernando de Tú a Tú
DESCRIPTION:El próximo sábado 25 de abril a las 15:00h\, la música en directo llega a la Axarquía. Nos vemos en El Camarote\, en la Caleta de Vélez\, para compartir una tarde cargada de ritmo y los mejores temas del pop-rock nacional e internacional. \nEste evento es la ocasión perfecta para quienes necesitan referencias de un grupo de versiones en Málaga con un directo sólido y profesional. Aunque en esta cita actúo en formato solista\, mantengo toda la esencia y el repertorio que ofrezco con mi banda completa\, asegurando una conexión total con el público y ese sello «de tú a tú» que nos diferencia. \nSi estás organizando una boda o evento privado en la zona de Vélez-Málaga o Torre del Mar y quieres comprobar la calidad de nuestro [grupo de versiones en Málaga]\, te espero en El Camarote para disfrutar de una sobremesa inolvidable. \n\n\nCuándo: Sábado\, 25 de abril de 2026. \n\n\nDónde: El Camarote (Puerto de la Caleta de Vélez\, Málaga). \n\n\nHora: 15:00h.
URL:https://fernandodetuatu.es/concierto/grupo-versiones-caleta-velez-el-camarote-25-abril-2026/
LOCATION:El Camarote\, Puerto Deportivo\, Caleta de Vélez\, Málaga\, 29751\, Spain
CATEGORIES:Vélez Málaga
ATTACH;FMTTYPE=image/png:https://fernandodetuatu.es/wp-content/uploads/2026/04/25-04-26-concierto-camarote.png
ORGANIZER;CN="Fernando de T%C3%BA a T%C3%BA | Grupo de versiones M%C3%A1laga":MAILTO:info@fernandodetuatu.es
END:VEVENT
BEGIN:VEVENT
DTSTART;TZID=Europe/Madrid:20260509T220000
DTEND;TZID=Europe/Madrid:20260509T233000
DTSTAMP:20260422T003331
CREATED:20260421T120429Z
LAST-MODIFIED:20260421T120429Z
UID:2224-1778364000-1778369400@fernandodetuatu.es
SUMMARY:9 May | Grupo de Versiones en Fuengirola - Umbría | Fernando de Tú a Tú
DESCRIPTION:La noche del sábado 9 de mayo volvemos a uno de los puntos de encuentro más potentes de Fuengirola. A partir de las 22:00h\, nos vemos en Umbría para vivir una velada de música en directo con los grandes éxitos del pop y rock. \nComo es habitual en mis actuaciones en este local\, traigo la energía y el repertorio que definen mi trabajo como grupo de versiones en Málaga\, adaptado a la atmósfera única de la noche en la Costa del Sol. Aunque en esta ocasión el formato sea solista\, la intensidad y la conexión con el público están garantizadas\, ofreciendo esa experiencia «de tú a tú» que buscas para cualquier evento especial. \nSi tienes un evento a la vista y quieres ver en directo la calidad de nuestro [grupo de versiones en Málaga]\, pásate por Umbría este 9 de mayo y disfruta de una noche de versiones inolvidable. \n\n\nCuándo: Sábado\, 9 de mayo de 2026. \n\n\nDónde: Umbría (Fuengirola\, Málaga). \n\n\nHora: 22:00h.
URL:https://fernandodetuatu.es/concierto/grupo-versiones-fuengirola-umbria-9-mayo-2026/
LOCATION:Umbria food and music\, Plaza de la Constitución\, 10\, Fuengirola\, Málaga\, 29640\, Spain
ATTACH;FMTTYPE=image/png:https://fernandodetuatu.es/wp-content/uploads/2026/04/9-5-26-concierto-umbria-fuengirola.png
ORGANIZER;CN="Fernando de T%C3%BA a T%C3%BA | Grupo de versiones M%C3%A1laga":MAILTO:info@fernandodetuatu.es
END:VEVENT
BEGIN:VEVENT
DTSTART;TZID=Europe/Madrid:20260515T210000
DTEND;TZID=Europe/Madrid:20260515T230000
DTSTAMP:20260422T003331
CREATED:20260421T121121Z
LAST-MODIFIED:20260421T121122Z
UID:2230-1778878800-1778886000@fernandodetuatu.es
SUMMARY:15 May | Grupo de Versiones en Málaga - Hard Rock Cafe | Fernando de Tú a Tú
DESCRIPTION:El próximo viernes 15 de mayo a las 21:00h\, el Hard Rock Cafe Málaga se convierte en el escenario del «Espacio Sin Filtrar»\, un evento exclusivo patrocinado por Cerveza El Águila. \nSerá una noche donde la autenticidad y la música en vivo se dan la mano. Traeré un directo cargado de energía\, repasando los hits que definen mi trayectoria como grupo de versiones en Málaga. Aunque en esta cita el formato se adapta al carácter especial del evento\, mantendremos la potencia del pop-rock y esa conexión sin filtros «de tú a tú» con todos vosotros. \nSi buscas el mejor ambiente en el centro de Málaga o necesitas referencias de un grupo de versiones para un evento corporativo o privado en la capital\, este concierto en el Hard Rock Cafe es la oportunidad perfecta para vernos en acción. \n\n\nEvento: Espacio Sin Filtrar (Cerveza El Águila). \n\n\nLugar: Hard Rock Cafe (Muelle Uno\, Málaga). \n\n\nFecha: Viernes\, 15 de mayo de 2026. \n\n\nHora: 21:00h.
URL:https://fernandodetuatu.es/concierto/concierto-grupo-versiones-malaga-hard-rock-cafe-15-mayo-2026/
LOCATION:Hard Rock Cafe Malaga\, Paseo del Muelle Uno\, Málaga\, Málaga\, 29016\, Spain
CATEGORIES:Málaga
ATTACH;FMTTYPE=image/png:https://fernandodetuatu.es/wp-content/uploads/2026/04/15-05-26-hardrockcafe.png
ORGANIZER;CN="Fernando de T%C3%BA a T%C3%BA | Grupo de versiones M%C3%A1laga":MAILTO:info@fernandodetuatu.es
END:VEVENT
BEGIN:VEVENT
DTSTART;TZID=Europe/Madrid:20260517T190000
DTEND;TZID=Europe/Madrid:20260517T210000
DTSTAMP:20260422T003331
CREATED:20260421T121706Z
LAST-MODIFIED:20260421T121706Z
UID:2235-1779044400-1779051600@fernandodetuatu.es
SUMMARY:17 May | Grupo de Versiones en La Cala del Moral - La Caliza | Fernando de Tú a Tú
DESCRIPTION:El próximo domingo 17 de mayo a las 19:00h\, la energía se multiplica en la costa. Nos vemos en La Caliza\, en La Cala del Moral\, para un concierto muy especial donde nos presentaremos con el formato completo de nuestra banda. \nSi buscas la pegada y el sonido arrollador de un grupo de versiones en Málaga\, esta es la cita que no te puedes perder. Interpretaremos los grandes himnos del pop-rock con toda la formación (batería\, bajo\, guitarra y voz)\, garantizando un show potente y dinámico diseñado para que nadie deje de bailar frente al mar. \nEs la oportunidad perfecta para empresas\, parejas que preparan su boda o locales que quieran ver en acción a un grupo de versiones profesional con un directo impecable en la zona del Rincón de la Victoria. Disfruta de la puesta de sol con la mejor banda sonora de la mano de Fernando de Tú a Tú. \n\n\nFormato: Banda Completa (Grupo de versiones). \n\n\nLugar: La Caliza (Paseo Marítimo\, La Cala del Moral). \n\n\nFecha: Domingo\, 17 de mayo de 2026. \n\n\nHora: 19:00h.
URL:https://fernandodetuatu.es/concierto/grupo-versiones-la-cala-del-moral-la-caliza-17-mayo-2026/
LOCATION:La Caliza\, Urb Cueva del Tesoro\, 16\, La Cala del Moral\, Málaga\, 29720\, Spain
CATEGORIES:Rincón de la Victoria
ATTACH;FMTTYPE=image/png:https://fernandodetuatu.es/wp-content/uploads/2026/04/17-05-26-grupodeversiones-caliza.png
ORGANIZER;CN="Fernando de T%C3%BA a T%C3%BA | Grupo de versiones M%C3%A1laga":MAILTO:info@fernandodetuatu.es
END:VEVENT
BEGIN:VEVENT
DTSTART;TZID=Europe/Madrid:20260523T220000
DTEND;TZID=Europe/Madrid:20260523T233000
DTSTAMP:20260422T003331
CREATED:20260421T124357Z
LAST-MODIFIED:20260421T124357Z
UID:2241-1779573600-1779579000@fernandodetuatu.es
SUMMARY:Música en Vivo el 23 de Mayo: Grupo de Versiones en Umbría\, Fuengirola
DESCRIPTION:La noche del sábado 23 de mayo cerramos la agenda mensual en uno de nuestros locales de referencia. A partir de las 22:00h\, nos vemos en Umbría (Fuengirola) para otra sesión de puro pop-rock nacional e internacional. \nCada actuación en este espacio es una oportunidad para demostrar por qué somos la opción preferida para quienes buscan contratar un grupo de versiones en Málaga. Aunque en esta ocasión el formato es solista\, la selección de temas y la energía del directo están enfocadas a ofrecer el mismo estándar de calidad que nuestra banda completa\, ideal para locales y eventos privados que buscan cercanía y profesionalidad. \nSi estás planificando un evento próximamente en la Costa del Sol\, pásate por Umbría el 23 de mayo para conocer de cerca nuestro trabajo como [grupo de versiones en Málaga] y disfruta de una noche de música inolvidable. \n\n\nCuándo: Sábado\, 23 de mayo de 2026. \n\n\nDónde: Umbría\, Fuengirola (Málaga). \n\n\nHora: 22:00h.
URL:https://fernandodetuatu.es/concierto/grupo-versiones-fuengirola-umbria-23-mayo-2026/
LOCATION:Umbria food and music\, Plaza de la Constitución\, 10\, Fuengirola\, Málaga\, 29640\, Spain
CATEGORIES:Fuengirola
ATTACH;FMTTYPE=image/png:https://fernandodetuatu.es/wp-content/uploads/2026/04/umbria-18-04-26-1.png
ORGANIZER;CN="Fernando de T%C3%BA a T%C3%BA | Grupo de versiones M%C3%A1laga":MAILTO:info@fernandodetuatu.es
END:VEVENT
BEGIN:VEVENT
DTSTART;TZID=Europe/Madrid:20260530T170000
DTEND;TZID=Europe/Madrid:20260530T190000
DTSTAMP:20260422T003331
CREATED:20260421T125105Z
LAST-MODIFIED:20260421T125105Z
UID:2244-1780160400-1780167600@fernandodetuatu.es
SUMMARY:Concierto de Tardeo: Grupo de Versiones en Uppery Rooftop (30 de Mayo)
DESCRIPTION:El próximo sábado 30 de mayo a las 17:00h\, la música en directo se traslada a las alturas en Uppery Rooftop. Disfruta de un atardecer único en Málaga con la mejor selección de pop-rock nacional e internacional en un entorno exclusivo. \nEsta sesión de tardeo es la oportunidad ideal para quienes buscan un grupo de versiones en Málaga que aporte elegancia y energía a partes iguales. Aunque la actuación será en formato solista\, mantengo toda la esencia y el repertorio que ofrezco con mi formación completa\, garantizando una experiencia de calidad para locales\, empresas y eventos privados que cuidan cada detalle. \nSi quieres conocer de cerca nuestro trabajo como grupo de versiones en Málaga para tu próxima celebración o evento corporativo\, te espero este 30 de mayo en Uppery Rooftop para disfrutar de la mejor música en vivo de tú a tú. \n\n\nCuándo: Sábado\, 30 de mayo de 2026. \n\n\nDónde: Uppery Club (Rooftop)\, Málaga. \n\n\nHora: 17:00h.
URL:https://fernandodetuatu.es/concierto/grupo-versiones-malaga-uppery-rooftop-30-mayo-2026/
LOCATION:Uppery Roof Top\, C/Ambar 7\, Churriana\, Málaga\, 29004\, Spain
CATEGORIES:Málaga
ATTACH;FMTTYPE=image/png:https://fernandodetuatu.es/wp-content/uploads/2026/04/30-05-26-UPPERY.png
ORGANIZER;CN="Fernando de T%C3%BA a T%C3%BA | Grupo de versiones M%C3%A1laga":MAILTO:info@fernandodetuatu.es
END:VEVENT
END:VCALENDAR