BEGIN:VCALENDAR
VERSION:2.0
PRODID:-//Fernando de Tú a Tú - ECPv6.15.20//NONSGML v1.0//EN
CALSCALE:GREGORIAN
METHOD:PUBLISH
X-WR-CALNAME:Fernando de Tú a Tú
X-ORIGINAL-URL:https://fernandodetuatu.es
X-WR-CALDESC:Eventos para Fernando de Tú a Tú
REFRESH-INTERVAL;VALUE=DURATION:PT1H
X-Robots-Tag:noindex
X-PUBLISHED-TTL:PT1H
BEGIN:VTIMEZONE
TZID:Europe/Madrid
BEGIN:DAYLIGHT
TZOFFSETFROM:+0100
TZOFFSETTO:+0200
TZNAME:CEST
DTSTART:20250330T010000
END:DAYLIGHT
BEGIN:STANDARD
TZOFFSETFROM:+0200
TZOFFSETTO:+0100
TZNAME:CET
DTSTART:20251026T010000
END:STANDARD
BEGIN:DAYLIGHT
TZOFFSETFROM:+0100
TZOFFSETTO:+0200
TZNAME:CEST
DTSTART:20260329T010000
END:DAYLIGHT
BEGIN:STANDARD
TZOFFSETFROM:+0200
TZOFFSETTO:+0100
TZNAME:CET
DTSTART:20261025T010000
END:STANDARD
BEGIN:DAYLIGHT
TZOFFSETFROM:+0100
TZOFFSETTO:+0200
TZNAME:CEST
DTSTART:20270328T010000
END:DAYLIGHT
BEGIN:STANDARD
TZOFFSETFROM:+0200
TZOFFSETTO:+0100
TZNAME:CET
DTSTART:20271031T010000
END:STANDARD
END:VTIMEZONE
BEGIN:VEVENT
DTSTART;TZID=Europe/Madrid:20260517T190000
DTEND;TZID=Europe/Madrid:20260517T210000
DTSTAMP:20260421T224602
CREATED:20260421T121706Z
LAST-MODIFIED:20260421T121706Z
UID:2235-1779044400-1779051600@fernandodetuatu.es
SUMMARY:17 May | Grupo de Versiones en La Cala del Moral - La Caliza | Fernando de Tú a Tú
DESCRIPTION:El próximo domingo 17 de mayo a las 19:00h\, la energía se multiplica en la costa. Nos vemos en La Caliza\, en La Cala del Moral\, para un concierto muy especial donde nos presentaremos con el formato completo de nuestra banda. \nSi buscas la pegada y el sonido arrollador de un grupo de versiones en Málaga\, esta es la cita que no te puedes perder. Interpretaremos los grandes himnos del pop-rock con toda la formación (batería\, bajo\, guitarra y voz)\, garantizando un show potente y dinámico diseñado para que nadie deje de bailar frente al mar. \nEs la oportunidad perfecta para empresas\, parejas que preparan su boda o locales que quieran ver en acción a un grupo de versiones profesional con un directo impecable en la zona del Rincón de la Victoria. Disfruta de la puesta de sol con la mejor banda sonora de la mano de Fernando de Tú a Tú. \n\n\nFormato: Banda Completa (Grupo de versiones). \n\n\nLugar: La Caliza (Paseo Marítimo\, La Cala del Moral). \n\n\nFecha: Domingo\, 17 de mayo de 2026. \n\n\nHora: 19:00h.
URL:https://fernandodetuatu.es/concierto/grupo-versiones-la-cala-del-moral-la-caliza-17-mayo-2026/
LOCATION:La Caliza\, Urb Cueva del Tesoro\, 16\, La Cala del Moral\, Málaga\, 29720\, Spain
CATEGORIES:Rincón de la Victoria
ATTACH;FMTTYPE=image/png:https://fernandodetuatu.es/wp-content/uploads/2026/04/17-05-26-grupodeversiones-caliza.png
ORGANIZER;CN="Fernando de T%C3%BA a T%C3%BA | Grupo de versiones M%C3%A1laga":MAILTO:info@fernandodetuatu.es
END:VEVENT
END:VCALENDAR