BEGIN:VCALENDAR
VERSION:2.0
PRODID:-//Fernando de Tú a Tú - ECPv6.15.20//NONSGML v1.0//EN
CALSCALE:GREGORIAN
METHOD:PUBLISH
X-WR-CALNAME:Fernando de Tú a Tú
X-ORIGINAL-URL:https://fernandodetuatu.es
X-WR-CALDESC:Eventos para Fernando de Tú a Tú
REFRESH-INTERVAL;VALUE=DURATION:PT1H
X-Robots-Tag:noindex
X-PUBLISHED-TTL:PT1H
BEGIN:VTIMEZONE
TZID:Europe/Madrid
BEGIN:DAYLIGHT
TZOFFSETFROM:+0100
TZOFFSETTO:+0200
TZNAME:CEST
DTSTART:20250330T010000
END:DAYLIGHT
BEGIN:STANDARD
TZOFFSETFROM:+0200
TZOFFSETTO:+0100
TZNAME:CET
DTSTART:20251026T010000
END:STANDARD
BEGIN:DAYLIGHT
TZOFFSETFROM:+0100
TZOFFSETTO:+0200
TZNAME:CEST
DTSTART:20260329T010000
END:DAYLIGHT
BEGIN:STANDARD
TZOFFSETFROM:+0200
TZOFFSETTO:+0100
TZNAME:CET
DTSTART:20261025T010000
END:STANDARD
BEGIN:DAYLIGHT
TZOFFSETFROM:+0100
TZOFFSETTO:+0200
TZNAME:CEST
DTSTART:20270328T010000
END:DAYLIGHT
BEGIN:STANDARD
TZOFFSETFROM:+0200
TZOFFSETTO:+0100
TZNAME:CET
DTSTART:20271031T010000
END:STANDARD
END:VTIMEZONE
BEGIN:VEVENT
DTSTART;TZID=Europe/Madrid:20260509T220000
DTEND;TZID=Europe/Madrid:20260509T233000
DTSTAMP:20260421T224720
CREATED:20260421T120429Z
LAST-MODIFIED:20260421T120429Z
UID:2224-1778364000-1778369400@fernandodetuatu.es
SUMMARY:9 May | Grupo de Versiones en Fuengirola - Umbría | Fernando de Tú a Tú
DESCRIPTION:La noche del sábado 9 de mayo volvemos a uno de los puntos de encuentro más potentes de Fuengirola. A partir de las 22:00h\, nos vemos en Umbría para vivir una velada de música en directo con los grandes éxitos del pop y rock. \nComo es habitual en mis actuaciones en este local\, traigo la energía y el repertorio que definen mi trabajo como grupo de versiones en Málaga\, adaptado a la atmósfera única de la noche en la Costa del Sol. Aunque en esta ocasión el formato sea solista\, la intensidad y la conexión con el público están garantizadas\, ofreciendo esa experiencia «de tú a tú» que buscas para cualquier evento especial. \nSi tienes un evento a la vista y quieres ver en directo la calidad de nuestro [grupo de versiones en Málaga]\, pásate por Umbría este 9 de mayo y disfruta de una noche de versiones inolvidable. \n\n\nCuándo: Sábado\, 9 de mayo de 2026. \n\n\nDónde: Umbría (Fuengirola\, Málaga). \n\n\nHora: 22:00h.
URL:https://fernandodetuatu.es/concierto/grupo-versiones-fuengirola-umbria-9-mayo-2026/
LOCATION:Umbria food and music\, Plaza de la Constitución\, 10\, Fuengirola\, Málaga\, 29640\, Spain
ATTACH;FMTTYPE=image/png:https://fernandodetuatu.es/wp-content/uploads/2026/04/9-5-26-concierto-umbria-fuengirola.png
ORGANIZER;CN="Fernando de T%C3%BA a T%C3%BA | Grupo de versiones M%C3%A1laga":MAILTO:info@fernandodetuatu.es
END:VEVENT
END:VCALENDAR