BEGIN:VCALENDAR
VERSION:2.0
PRODID:-//Fernando de Tú a Tú - ECPv6.15.20//NONSGML v1.0//EN
CALSCALE:GREGORIAN
METHOD:PUBLISH
X-WR-CALNAME:Fernando de Tú a Tú
X-ORIGINAL-URL:https://fernandodetuatu.es
X-WR-CALDESC:Eventos para Fernando de Tú a Tú
REFRESH-INTERVAL;VALUE=DURATION:PT1H
X-Robots-Tag:noindex
X-PUBLISHED-TTL:PT1H
BEGIN:VTIMEZONE
TZID:Europe/Madrid
BEGIN:DAYLIGHT
TZOFFSETFROM:+0100
TZOFFSETTO:+0200
TZNAME:CEST
DTSTART:20240331T010000
END:DAYLIGHT
BEGIN:STANDARD
TZOFFSETFROM:+0200
TZOFFSETTO:+0100
TZNAME:CET
DTSTART:20241027T010000
END:STANDARD
BEGIN:DAYLIGHT
TZOFFSETFROM:+0100
TZOFFSETTO:+0200
TZNAME:CEST
DTSTART:20250330T010000
END:DAYLIGHT
BEGIN:STANDARD
TZOFFSETFROM:+0200
TZOFFSETTO:+0100
TZNAME:CET
DTSTART:20251026T010000
END:STANDARD
BEGIN:DAYLIGHT
TZOFFSETFROM:+0100
TZOFFSETTO:+0200
TZNAME:CEST
DTSTART:20260329T010000
END:DAYLIGHT
BEGIN:STANDARD
TZOFFSETFROM:+0200
TZOFFSETTO:+0100
TZNAME:CET
DTSTART:20261025T010000
END:STANDARD
END:VTIMEZONE
BEGIN:VEVENT
DTSTART;TZID=Europe/Madrid:20251207T160000
DTEND;TZID=Europe/Madrid:20251207T180000
DTSTAMP:20260421T195724
CREATED:20251126T153931Z
LAST-MODIFIED:20251126T155100Z
UID:1412-1765123200-1765130400@fernandodetuatu.es
SUMMARY:Música en directo en Málaga – Fridha Pahlo | Fernando de Tú a Tú
DESCRIPTION:El domingo 7 de diciembre a las 16:00 h\, Fernando de Tú a Tú ofrecerá un concierto acústico en Fridha Pahlo\, uno de los locales más creativos y acogedores de Málaga capital. En este formato íntimo\, el artista interpretará versiones de pop y rock español con un estilo cálido\, cercano y lleno de personalidad.Fridha Pahlo destaca por su ambiente artístico\, su decoración inspirada en el mundo cultural y su clientela diversa\, que busca experiencias auténticas en pleno centro urbano. El horario de tarde hace que este acústico sea perfecto para quienes quieren disfrutar de un plan relajado antes de la noche\, ideal para amigos\, parejas y amantes de la música en directo que buscan calidad en un entorno único. \nLa música en directo en Málaga continúa siendo uno de los mayores atractivos culturales de la ciudad\, y locales como Fridha Pahlo refuerzan su apuesta por ofrecer actuaciones íntimas y especiales. Este concierto acústico de Fernando de Tú a Tú es una gran oportunidad para disfrutar de versiones conocidas del pop y rock español interpretadas con una sensibilidad propia\, en un espacio que combina arte\, estilo y un ambiente moderno.Los conciertos en Málaga se han convertido en un plan habitual para quienes desean disfrutar de actividades culturales diferentes\, y el formato acústico encaja perfectamente en espacios urbanos con personalidad. Las actuaciones en la Costa del Sol destacan por su cercanía y por la conexión con el público\, y este evento no será una excepción: un repertorio cuidado\, una interpretación emocional y un ambiente perfecto para comenzar la tarde del sábado con buena música. Si buscas propuestas auténticas dentro de la oferta de música en directo Málaga\, este acústico en Fridha Pahlo es una cita recomendada para disfrutar de calidad musical en pleno corazón de la ciudad. \n\n\n👉 Acústico: https://fernandodetuatu.es/concierto-acustico-cantante-de-versiones-malaga/ \n\n\n👉 Grupo de Versiones: https://fernandodetuatu.es/contratar-grupo-de-versiones-en-malaga/ \n\n\n👉 Tributo Sabina: https://fernandodetuatu.es/tributo-sabina-malaga/ \n\n\n👉 Contacto (Música en Directo): https://fernandodetuatu.es/contratar-musica-en-directo-en-malaga/ \n\n\n👉 Agenda: https://fernandodetuatu.es/agenda/
URL:https://fernandodetuatu.es/concierto/musica-en-directo-fridha-pahlo-malaga-2025-12-07/
LOCATION:Frida Pahlo\, Paseo del Pedregal\, 19\, Málaga\, Málaga\, 29017\, Spain
CATEGORIES:Málaga
END:VEVENT
END:VCALENDAR