BEGIN:VCALENDAR
VERSION:2.0
PRODID:-//Fernando de Tú a Tú - ECPv6.15.20//NONSGML v1.0//EN
CALSCALE:GREGORIAN
METHOD:PUBLISH
X-ORIGINAL-URL:https://fernandodetuatu.es
X-WR-CALDESC:Eventos para Fernando de Tú a Tú
REFRESH-INTERVAL;VALUE=DURATION:PT1H
X-Robots-Tag:noindex
X-PUBLISHED-TTL:PT1H
BEGIN:VTIMEZONE
TZID:Europe/Madrid
BEGIN:DAYLIGHT
TZOFFSETFROM:+0100
TZOFFSETTO:+0200
TZNAME:CEST
DTSTART:20240331T010000
END:DAYLIGHT
BEGIN:STANDARD
TZOFFSETFROM:+0200
TZOFFSETTO:+0100
TZNAME:CET
DTSTART:20241027T010000
END:STANDARD
BEGIN:DAYLIGHT
TZOFFSETFROM:+0100
TZOFFSETTO:+0200
TZNAME:CEST
DTSTART:20250330T010000
END:DAYLIGHT
BEGIN:STANDARD
TZOFFSETFROM:+0200
TZOFFSETTO:+0100
TZNAME:CET
DTSTART:20251026T010000
END:STANDARD
BEGIN:DAYLIGHT
TZOFFSETFROM:+0100
TZOFFSETTO:+0200
TZNAME:CEST
DTSTART:20260329T010000
END:DAYLIGHT
BEGIN:STANDARD
TZOFFSETFROM:+0200
TZOFFSETTO:+0100
TZNAME:CET
DTSTART:20261025T010000
END:STANDARD
END:VTIMEZONE
BEGIN:VEVENT
DTSTART;TZID=Europe/Madrid:20251206T220000
DTEND;TZID=Europe/Madrid:20251206T233000
DTSTAMP:20260421T201253
CREATED:20251126T151834Z
LAST-MODIFIED:20251126T154940Z
UID:1408-1765058400-1765063800@fernandodetuatu.es
SUMMARY:Música en directo en La Cala del Moral – IrishBand Pub | Fernando de Tú a Tú
DESCRIPTION:El sábado 6 de diciembre a las 22:00 h\, Fernando de Tú a Tú actuará en IrishBand Pub\, uno de los locales de música más conocidos de La Cala del Moral. Será un concierto acústico íntimo\, con versiones de pop y rock español interpretadas con una esencia cálida\, natural y cercana.El pub ofrece un ambiente animado\, ideal para disfrutar con amigos\, para quienes buscan una noche de buena música o simplemente para quienes quieren desconectar con canciones conocidas en directo. Su estilo irlandés\, su iluminación cálida y su clientela habitual crean un entorno perfecto para un acústico de voz y guitarra que conecta con todo tipo de público. Una cita musical especial en pleno Rincón de la Victoria. \nLa música en directo en Málaga es uno de los grandes atractivos de la Costa del Sol\, y La Cala del Moral se está consolidando como una zona cada vez más activa en cuanto a conciertos y eventos culturales. Este acústico de Fernando de Tú a Tú en IrishBand Pub es una oportunidad perfecta para disfrutar de un directo auténtico\, cercano y lleno de versiones reconocibles del pop y rock español. El formato acústico encaja a la perfección con locales como este\, donde el público busca un ambiente relajado y acogedor sin renunciar a la energía y emoción de las actuaciones en vivo.Dentro de los conciertos en La Cala del Moral\, IrishBand Pub se ha convertido en un punto de encuentro para los amantes de la música y los planes nocturnos con personalidad propia. La actuación forma parte de la apuesta creciente por la música en directo Málaga\, ofreciendo noches especiales que combinan buena música\, ambiente agradable y una propuesta cultural distinta. Si buscas actuaciones en la Costa del Sol que mezclen cercanía\, versiones conocidas y un estilo acústico cuidado\, este evento es una opción perfecta para disfrutar la tarde del 6 de diciembre. \n\n\n👉 Acústico: https://fernandodetuatu.es/concierto-acustico-cantante-de-versiones-malaga/ \n\n\n👉 Grupo de Versiones: https://fernandodetuatu.es/contratar-grupo-de-versiones-en-malaga/ \n\n\n👉 Tributo Sabina: https://fernandodetuatu.es/tributo-sabina-malaga/ \n\n\n👉 Contacto (Música en Directo): https://fernandodetuatu.es/contratar-musica-en-directo-en-malaga/ \n\n\n👉 Agenda: https://fernandodetuatu.es/agenda/
URL:https://fernandodetuatu.es/concierto/musica-en-directo-irishband-pub-la-cala-del-moral-2025-12-06/
LOCATION:Irish Bigband Pub\, Plaza Gloria Fuertes\, 1\, La Cala del Moral\, Málaga\, 29720\, Spain
CATEGORIES:Rincón de la Victoria
ATTACH;FMTTYPE=image/webp:https://fernandodetuatu.es/wp-content/uploads/2025/11/irisband-la-cala.webp
END:VEVENT
END:VCALENDAR