BEGIN:VCALENDAR
VERSION:2.0
PRODID:-//Fernando de Tú a Tú - ECPv6.15.20//NONSGML v1.0//EN
CALSCALE:GREGORIAN
METHOD:PUBLISH
X-ORIGINAL-URL:https://fernandodetuatu.es
X-WR-CALDESC:Eventos para Fernando de Tú a Tú
REFRESH-INTERVAL;VALUE=DURATION:PT1H
X-Robots-Tag:noindex
X-PUBLISHED-TTL:PT1H
BEGIN:VTIMEZONE
TZID:Europe/Madrid
BEGIN:DAYLIGHT
TZOFFSETFROM:+0100
TZOFFSETTO:+0200
TZNAME:CEST
DTSTART:20240331T010000
END:DAYLIGHT
BEGIN:STANDARD
TZOFFSETFROM:+0200
TZOFFSETTO:+0100
TZNAME:CET
DTSTART:20241027T010000
END:STANDARD
BEGIN:DAYLIGHT
TZOFFSETFROM:+0100
TZOFFSETTO:+0200
TZNAME:CEST
DTSTART:20250330T010000
END:DAYLIGHT
BEGIN:STANDARD
TZOFFSETFROM:+0200
TZOFFSETTO:+0100
TZNAME:CET
DTSTART:20251026T010000
END:STANDARD
BEGIN:DAYLIGHT
TZOFFSETFROM:+0100
TZOFFSETTO:+0200
TZNAME:CEST
DTSTART:20260329T010000
END:DAYLIGHT
BEGIN:STANDARD
TZOFFSETFROM:+0200
TZOFFSETTO:+0100
TZNAME:CET
DTSTART:20261025T010000
END:STANDARD
END:VTIMEZONE
BEGIN:VEVENT
DTSTART;TZID=Europe/Madrid:20251122T150000
DTEND;TZID=Europe/Madrid:20251122T170000
DTSTAMP:20260421T214104
CREATED:20251119T115657Z
LAST-MODIFIED:20251120T214434Z
UID:1282-1763823600-1763830800@fernandodetuatu.es
SUMMARY:El Camarote Caleta de Velez
DESCRIPTION:Una nueva cita en El Camarote\, un lugar emblemático en pleno puerto deportivo de Caleta de Vélez. Disfruta de sus arroces y pescados acompañados con música en vivo donde intercalaré temas de Sabina con otros grandes éxitos del pop rock nacional e internacional
URL:https://fernandodetuatu.es/concierto/eventos-concierto-caleta-de-velez-fernando-de-tu-a-tu-este-sabado/
LOCATION:El Camarote\, Puerto Deportivo\, Caleta de Vélez\, Málaga\, 29751\, Spain
END:VEVENT
BEGIN:VEVENT
DTSTART;TZID=Europe/Madrid:20251122T200000
DTEND;TZID=Europe/Madrid:20251122T220000
DTSTAMP:20260421T214104
CREATED:20251120T215019Z
LAST-MODIFIED:20251201T103014Z
UID:1296-1763841600-1763848800@fernandodetuatu.es
SUMMARY:Legran Café Torremolinos
DESCRIPTION:Visita a este emblemático local de Torremolinos para poner la guinda a la Fiesta Tributo 80-90 que se organiza alli. Desde las 18.00h fiesta asegurada y a las 20.00h concierto con las mejores versiones del pop rock
URL:https://fernandodetuatu.es/concierto/legran-cafe-torremolinos/
LOCATION:Le Grand Cafe Torremolinos\, Camino del Pinillo\, 7\, Torremolinos\, Málaga\, 29620\, Spain
CATEGORIES:Torremolinos
END:VEVENT
END:VCALENDAR